BEGIN:VCALENDAR
VERSION:2.0
PRODID:-//Air Madness Trampoline Park - ECPv6.15.20//NONSGML v1.0//EN
CALSCALE:GREGORIAN
METHOD:PUBLISH
X-WR-CALNAME:Air Madness Trampoline Park
X-ORIGINAL-URL:https://airmadness.com
X-WR-CALDESC:Events for Air Madness Trampoline Park
REFRESH-INTERVAL;VALUE=DURATION:PT1H
X-Robots-Tag:noindex
X-PUBLISHED-TTL:PT1H
BEGIN:VTIMEZONE
TZID:America/Chicago
BEGIN:DAYLIGHT
TZOFFSETFROM:-0600
TZOFFSETTO:-0500
TZNAME:CDT
DTSTART:20250309T080000
END:DAYLIGHT
BEGIN:STANDARD
TZOFFSETFROM:-0500
TZOFFSETTO:-0600
TZNAME:CST
DTSTART:20251102T070000
END:STANDARD
BEGIN:DAYLIGHT
TZOFFSETFROM:-0600
TZOFFSETTO:-0500
TZNAME:CDT
DTSTART:20260308T080000
END:DAYLIGHT
BEGIN:STANDARD
TZOFFSETFROM:-0500
TZOFFSETTO:-0600
TZNAME:CST
DTSTART:20261101T070000
END:STANDARD
BEGIN:DAYLIGHT
TZOFFSETFROM:-0600
TZOFFSETTO:-0500
TZNAME:CDT
DTSTART:20270314T080000
END:DAYLIGHT
BEGIN:STANDARD
TZOFFSETFROM:-0500
TZOFFSETTO:-0600
TZNAME:CST
DTSTART:20271107T070000
END:STANDARD
END:VTIMEZONE
BEGIN:VEVENT
DTSTART;TZID=America/Chicago:20260325T090000
DTEND;TZID=America/Chicago:20260325T120000
DTSTAMP:20260423T002158
CREATED:20251022T153724Z
LAST-MODIFIED:20251022T153724Z
UID:1869-1774429200-1774440000@airmadness.com
SUMMARY:Toddler Time: Tiny Jumpers\, Big Fun | Ages 0-6
DESCRIPTION:Wednesdays just got WAY more exciting! Every week from 9 AM–12 PM\, Air Madness turns into a safe\, colorful playground made just for your littlest adventurers. \nToddler Time is designed for kids ages 0–6\, giving them the freedom to bounce\, explore\, and laugh without the big kids zooming around. It’s the perfect midweek energy burn (and parent sanity-saver ). \nEvent Details:\nWhen: Every Wednesday | 9 AM–12 PM\nAges: 0–6 only\nCost: $8.00 per jumper \nParents who want to join the fun on the trampolines must also purchase a pass.\nSocks: Air Madness jump socks required (available for purchase) \nWhether it’s their first jump\, their wobbly little bounce\, or their new mini trick\, Toddler Time is all about making memories together. \nSo grab your tiny jumper\, pack up the socks\, and come join us for a morning full of giggles\, play\, and pint-sized fun. They deserve it — and so do you! 🙌
URL:https://airmadness.com/event/toddler-time-tiny-jumpers-big-fun-ages-0-6-20/
LOCATION:Air Madness\, 310 Industrial Rd\, Harrisburg\, South Dakota\, 57032\, United States
ATTACH;FMTTYPE=image/png:https://airmadness.com/wp-content/uploads/2025/10/2-3.png
ORGANIZER;CN="Air Madness":MAILTO:info@airmadness.com
END:VEVENT
END:VCALENDAR