BEGIN:VCALENDAR
VERSION:2.0
PRODID:-//Air Madness Trampoline Park - ECPv6.15.20//NONSGML v1.0//EN
CALSCALE:GREGORIAN
METHOD:PUBLISH
X-WR-CALNAME:Air Madness Trampoline Park
X-ORIGINAL-URL:https://airmadness.com
X-WR-CALDESC:Events for Air Madness Trampoline Park
REFRESH-INTERVAL;VALUE=DURATION:PT1H
X-Robots-Tag:noindex
X-PUBLISHED-TTL:PT1H
BEGIN:VTIMEZONE
TZID:America/Chicago
BEGIN:DAYLIGHT
TZOFFSETFROM:-0600
TZOFFSETTO:-0500
TZNAME:CDT
DTSTART:20250309T080000
END:DAYLIGHT
BEGIN:STANDARD
TZOFFSETFROM:-0500
TZOFFSETTO:-0600
TZNAME:CST
DTSTART:20251102T070000
END:STANDARD
BEGIN:DAYLIGHT
TZOFFSETFROM:-0600
TZOFFSETTO:-0500
TZNAME:CDT
DTSTART:20260308T080000
END:DAYLIGHT
BEGIN:STANDARD
TZOFFSETFROM:-0500
TZOFFSETTO:-0600
TZNAME:CST
DTSTART:20261101T070000
END:STANDARD
BEGIN:DAYLIGHT
TZOFFSETFROM:-0600
TZOFFSETTO:-0500
TZNAME:CDT
DTSTART:20270314T080000
END:DAYLIGHT
BEGIN:STANDARD
TZOFFSETFROM:-0500
TZOFFSETTO:-0600
TZNAME:CST
DTSTART:20271107T070000
END:STANDARD
END:VTIMEZONE
BEGIN:VEVENT
DTSTART;TZID=America/Chicago:20260717T190000
DTEND;TZID=America/Chicago:20260717T210000
DTSTAMP:20260422T180642
CREATED:20260420T142531Z
LAST-MODIFIED:20260420T142531Z
UID:2313-1784314800-1784322000@airmadness.com
SUMMARY:Summer Cosmic Jump
DESCRIPTION:Lights off. Lasers on. Let’s jump. \n\n\nGet ready for Summer Cosmic Jump at Air Madness — your favorite high-energy jump night turned all the way up for summer. \n\n\nJoin us Friday and Saturday nights from 7 PM to 9 PM for glowing lights\, laser vibes\, music\, and wall-to-wall jump time that hits different after dark. \n\n\nThis is not your average night at the trampoline park. This is big summer energy\, glowing chaos\, and the kind of fun your kids will talk about the entire ride home. \n\n\nSUMMER COSMIC JUMP:Friday & Saturday Nights7 PM – 9 PM \n\n\nPerfect for kids who still have energy at the end of the day and parents who need a plan that gets everyone out of the house. \n\n Air MadnessHarrisburg\, South Dakota
URL:https://airmadness.com/event/summer-cosmic-jump-14/
LOCATION:Air Madness\, 310 Industrial Rd\, Harrisburg\, South Dakota\, 57032\, United States
ATTACH;FMTTYPE=image/png:https://airmadness.com/wp-content/uploads/2026/04/SummerCosmic.png
ORGANIZER;CN="Air Madness":MAILTO:info@airmadness.com
END:VEVENT
END:VCALENDAR